BEGIN:VCALENDAR
VERSION:2.0
PRODID:-//Switzerland County Public Library - ECPv6.15.20//NONSGML v1.0//EN
CALSCALE:GREGORIAN
METHOD:PUBLISH
X-WR-CALNAME:Switzerland County Public Library
X-ORIGINAL-URL:https://scpl.us
X-WR-CALDESC:Events for Switzerland County Public Library
REFRESH-INTERVAL;VALUE=DURATION:PT1H
X-Robots-Tag:noindex
X-PUBLISHED-TTL:PT1H
BEGIN:VTIMEZONE
TZID:America/Indiana/Indianapolis
BEGIN:DAYLIGHT
TZOFFSETFROM:-0500
TZOFFSETTO:-0400
TZNAME:EDT
DTSTART:20250309T070000
END:DAYLIGHT
BEGIN:STANDARD
TZOFFSETFROM:-0400
TZOFFSETTO:-0500
TZNAME:EST
DTSTART:20251102T060000
END:STANDARD
BEGIN:DAYLIGHT
TZOFFSETFROM:-0500
TZOFFSETTO:-0400
TZNAME:EDT
DTSTART:20260308T070000
END:DAYLIGHT
BEGIN:STANDARD
TZOFFSETFROM:-0400
TZOFFSETTO:-0500
TZNAME:EST
DTSTART:20261101T060000
END:STANDARD
BEGIN:DAYLIGHT
TZOFFSETFROM:-0500
TZOFFSETTO:-0400
TZNAME:EDT
DTSTART:20270314T070000
END:DAYLIGHT
BEGIN:STANDARD
TZOFFSETFROM:-0400
TZOFFSETTO:-0500
TZNAME:EST
DTSTART:20271107T060000
END:STANDARD
END:VTIMEZONE
BEGIN:VEVENT
DTSTART;TZID=America/Indiana/Indianapolis:20260421T153000
DTEND;TZID=America/Indiana/Indianapolis:20260421T170000
DTSTAMP:20260421T031712
CREATED:20260320T193336Z
LAST-MODIFIED:20260320T193336Z
UID:5790-1776785400-1776790800@scpl.us
SUMMARY:Teen Time
DESCRIPTION:Teens are welcome to stop in and hang out with snacks and activities on hand. Activities such as games\, crafts\, cooking\, & more. Ages 13-18.
URL:https://scpl.us/event/teen-time-8/
END:VEVENT
BEGIN:VEVENT
DTSTART;TZID=America/Indiana/Indianapolis:20260421T173000
DTEND;TZID=America/Indiana/Indianapolis:20260421T190000
DTSTAMP:20260421T031712
CREATED:20260320T193658Z
LAST-MODIFIED:20260320T193658Z
UID:5794-1776792600-1776798000@scpl.us
SUMMARY:Dungeons and Dragons
DESCRIPTION:Play this popular TTRPG with other community members. Adults & Teens only. Registration Required.
URL:https://scpl.us/event/dungeons-and-dragons-8/
END:VEVENT
END:VCALENDAR