BEGIN:VCALENDAR
VERSION:2.0
PRODID:-//Switzerland County Public Library - ECPv6.15.20//NONSGML v1.0//EN
CALSCALE:GREGORIAN
METHOD:PUBLISH
X-ORIGINAL-URL:https://scpl.us
X-WR-CALDESC:Events for Switzerland County Public Library
REFRESH-INTERVAL;VALUE=DURATION:PT1H
X-Robots-Tag:noindex
X-PUBLISHED-TTL:PT1H
BEGIN:VTIMEZONE
TZID:America/Indiana/Indianapolis
BEGIN:DAYLIGHT
TZOFFSETFROM:-0500
TZOFFSETTO:-0400
TZNAME:EDT
DTSTART:20250309T070000
END:DAYLIGHT
BEGIN:STANDARD
TZOFFSETFROM:-0400
TZOFFSETTO:-0500
TZNAME:EST
DTSTART:20251102T060000
END:STANDARD
BEGIN:DAYLIGHT
TZOFFSETFROM:-0500
TZOFFSETTO:-0400
TZNAME:EDT
DTSTART:20260308T070000
END:DAYLIGHT
BEGIN:STANDARD
TZOFFSETFROM:-0400
TZOFFSETTO:-0500
TZNAME:EST
DTSTART:20261101T060000
END:STANDARD
BEGIN:DAYLIGHT
TZOFFSETFROM:-0500
TZOFFSETTO:-0400
TZNAME:EDT
DTSTART:20270314T070000
END:DAYLIGHT
BEGIN:STANDARD
TZOFFSETFROM:-0400
TZOFFSETTO:-0500
TZNAME:EST
DTSTART:20271107T060000
END:STANDARD
END:VTIMEZONE
BEGIN:VEVENT
DTSTART;TZID=America/Indiana/Indianapolis:20260326T100000
DTEND;TZID=America/Indiana/Indianapolis:20260326T110000
DTSTAMP:20260417T135238
CREATED:20260223T200952Z
LAST-MODIFIED:20260223T200952Z
UID:5746-1774519200-1774522800@scpl.us
SUMMARY:Story Time
DESCRIPTION:Bring the kids to enjoy fun\, interactive stories along with a craft presented by Heather & Kyla. Snack will be provided. Thursdays at 10 a.m.\nMar. 5: Music\nMar. 12: Green\nMar. 19: Fish\nMar. 26: Rocks
URL:https://scpl.us/event/story-time-79/
END:VEVENT
BEGIN:VEVENT
DTSTART;TZID=America/Indiana/Indianapolis:20260326T140000
DTEND;TZID=America/Indiana/Indianapolis:20260326T150000
DTSTAMP:20260417T135238
CREATED:20260223T204622Z
LAST-MODIFIED:20260223T204622Z
UID:5777-1774533600-1774537200@scpl.us
SUMMARY:Spring Break Bingo
DESCRIPTION:Join Heather & Kyla for Bingo! Every bingo gets a prize! Registration Required. All ages.
URL:https://scpl.us/event/spring-break-bingo/
END:VEVENT
END:VCALENDAR