BEGIN:VCALENDAR
VERSION:2.0
PRODID:-//Switzerland County Public Library - ECPv6.15.20//NONSGML v1.0//EN
CALSCALE:GREGORIAN
METHOD:PUBLISH
X-ORIGINAL-URL:https://scpl.us
X-WR-CALDESC:Events for Switzerland County Public Library
REFRESH-INTERVAL;VALUE=DURATION:PT1H
X-Robots-Tag:noindex
X-PUBLISHED-TTL:PT1H
BEGIN:VTIMEZONE
TZID:America/Indiana/Indianapolis
BEGIN:DAYLIGHT
TZOFFSETFROM:-0500
TZOFFSETTO:-0400
TZNAME:EDT
DTSTART:20240310T070000
END:DAYLIGHT
BEGIN:STANDARD
TZOFFSETFROM:-0400
TZOFFSETTO:-0500
TZNAME:EST
DTSTART:20241103T060000
END:STANDARD
BEGIN:DAYLIGHT
TZOFFSETFROM:-0500
TZOFFSETTO:-0400
TZNAME:EDT
DTSTART:20250309T070000
END:DAYLIGHT
BEGIN:STANDARD
TZOFFSETFROM:-0400
TZOFFSETTO:-0500
TZNAME:EST
DTSTART:20251102T060000
END:STANDARD
BEGIN:DAYLIGHT
TZOFFSETFROM:-0500
TZOFFSETTO:-0400
TZNAME:EDT
DTSTART:20260308T070000
END:DAYLIGHT
BEGIN:STANDARD
TZOFFSETFROM:-0400
TZOFFSETTO:-0500
TZNAME:EST
DTSTART:20261101T060000
END:STANDARD
END:VTIMEZONE
BEGIN:VEVENT
DTSTART;VALUE=DATE:20250528
DTEND;VALUE=DATE:20250529
DTSTAMP:20260419T081816
CREATED:20250528T184034Z
LAST-MODIFIED:20250528T184034Z
UID:5189-1748390400-1748476799@scpl.us
SUMMARY:Staff Meeting - Library Opens at 1 p.m.
DESCRIPTION:
URL:https://scpl.us/event/staff-meeting-library-opens-at-1-p-m-2/
END:VEVENT
BEGIN:VEVENT
DTSTART;TZID=America/Indiana/Indianapolis:20250528T153000
DTEND;TZID=America/Indiana/Indianapolis:20250528T163000
DTSTAMP:20260419T081816
CREATED:20250430T183722Z
LAST-MODIFIED:20250430T183722Z
UID:5075-1748446200-1748449800@scpl.us
SUMMARY:Conversational Spanish (waitlist)
DESCRIPTION:This class concentrates on conversational techniques & basic word phrases. Materials will be furnished and learning will be made easy & fun! 3:30 class is full\, new time open for beginners at 6:30pm. Registration Required\, Ages 18+.
URL:https://scpl.us/event/conversational-spanish-waitlist-12/
END:VEVENT
BEGIN:VEVENT
DTSTART;TZID=America/Indiana/Indianapolis:20250528T183000
DTEND;TZID=America/Indiana/Indianapolis:20250528T193000
DTSTAMP:20260419T081816
CREATED:20250430T184006Z
LAST-MODIFIED:20250430T184006Z
UID:5083-1748457000-1748460600@scpl.us
SUMMARY:Conversational Spanish (NEW SECOND CLASS)
DESCRIPTION:This class concentrates on conversational techniques & basic word phrases. Materials will be furnished and learning will be made easy & fun! 3:30 class is full\, new time open for beginners at 6:30pm. Registration Required\, Ages 18+.
URL:https://scpl.us/event/conversational-spanish-new-second-class-4/
END:VEVENT
END:VCALENDAR