BEGIN:VCALENDAR
VERSION:2.0
PRODID:-//Switzerland County Public Library - ECPv6.15.20//NONSGML v1.0//EN
CALSCALE:GREGORIAN
METHOD:PUBLISH
X-WR-CALNAME:Switzerland County Public Library
X-ORIGINAL-URL:https://scpl.us
X-WR-CALDESC:Events for Switzerland County Public Library
REFRESH-INTERVAL;VALUE=DURATION:PT1H
X-Robots-Tag:noindex
X-PUBLISHED-TTL:PT1H
BEGIN:VTIMEZONE
TZID:America/Indiana/Indianapolis
BEGIN:DAYLIGHT
TZOFFSETFROM:-0500
TZOFFSETTO:-0400
TZNAME:EDT
DTSTART:20240310T070000
END:DAYLIGHT
BEGIN:STANDARD
TZOFFSETFROM:-0400
TZOFFSETTO:-0500
TZNAME:EST
DTSTART:20241103T060000
END:STANDARD
BEGIN:DAYLIGHT
TZOFFSETFROM:-0500
TZOFFSETTO:-0400
TZNAME:EDT
DTSTART:20250309T070000
END:DAYLIGHT
BEGIN:STANDARD
TZOFFSETFROM:-0400
TZOFFSETTO:-0500
TZNAME:EST
DTSTART:20251102T060000
END:STANDARD
BEGIN:DAYLIGHT
TZOFFSETFROM:-0500
TZOFFSETTO:-0400
TZNAME:EDT
DTSTART:20260308T070000
END:DAYLIGHT
BEGIN:STANDARD
TZOFFSETFROM:-0400
TZOFFSETTO:-0500
TZNAME:EST
DTSTART:20261101T060000
END:STANDARD
END:VTIMEZONE
BEGIN:VEVENT
DTSTART;TZID=America/Indiana/Indianapolis:20250521T140000
DTEND;TZID=America/Indiana/Indianapolis:20250521T150000
DTSTAMP:20260419T081638
CREATED:20250430T182146Z
LAST-MODIFIED:20250430T182146Z
UID:5067-1747836000-1747839600@scpl.us
SUMMARY:Common Threads
DESCRIPTION:Crafters welcome! No knitting or crochet experience needed. Bring a project or pick up one to try. Ages 18+.
URL:https://scpl.us/event/common-threads-28/
END:VEVENT
BEGIN:VEVENT
DTSTART;TZID=America/Indiana/Indianapolis:20250521T153000
DTEND;TZID=America/Indiana/Indianapolis:20250521T163000
DTSTAMP:20260419T081638
CREATED:20250430T183544Z
LAST-MODIFIED:20250430T183544Z
UID:5073-1747841400-1747845000@scpl.us
SUMMARY:Conversational Spanish (waitlist)
DESCRIPTION:This class concentrates on conversational techniques & basic word phrases. Materials will be furnished and learning will be made easy & fun! 3:30 class is full\, new time open for beginners at 6:30pm. Registration Required\, Ages 18+.
URL:https://scpl.us/event/conversational-spanish-waitlist-11/
END:VEVENT
BEGIN:VEVENT
DTSTART;TZID=America/Indiana/Indianapolis:20250521T183000
DTEND;TZID=America/Indiana/Indianapolis:20250521T193000
DTSTAMP:20260419T081638
CREATED:20250430T183931Z
LAST-MODIFIED:20250430T183931Z
UID:5081-1747852200-1747855800@scpl.us
SUMMARY:Conversational Spanish (NEW SECOND CLASS)
DESCRIPTION:This class concentrates on conversational techniques & basic word phrases. Materials will be furnished and learning will be made easy & fun! 3:30 class is full\, new time open for beginners at 6:30pm. Registration Required\, Ages 18+.
URL:https://scpl.us/event/conversational-spanish-new-second-class-3/
END:VEVENT
END:VCALENDAR