BEGIN:VCALENDAR
VERSION:2.0
PRODID:-//Switzerland County Public Library - ECPv6.15.20//NONSGML v1.0//EN
CALSCALE:GREGORIAN
METHOD:PUBLISH
X-WR-CALNAME:Switzerland County Public Library
X-ORIGINAL-URL:https://scpl.us
X-WR-CALDESC:Events for Switzerland County Public Library
REFRESH-INTERVAL;VALUE=DURATION:PT1H
X-Robots-Tag:noindex
X-PUBLISHED-TTL:PT1H
BEGIN:VTIMEZONE
TZID:America/Indiana/Indianapolis
BEGIN:DAYLIGHT
TZOFFSETFROM:-0500
TZOFFSETTO:-0400
TZNAME:EDT
DTSTART:20220313T070000
END:DAYLIGHT
BEGIN:STANDARD
TZOFFSETFROM:-0400
TZOFFSETTO:-0500
TZNAME:EST
DTSTART:20221106T060000
END:STANDARD
BEGIN:DAYLIGHT
TZOFFSETFROM:-0500
TZOFFSETTO:-0400
TZNAME:EDT
DTSTART:20230312T070000
END:DAYLIGHT
BEGIN:STANDARD
TZOFFSETFROM:-0400
TZOFFSETTO:-0500
TZNAME:EST
DTSTART:20231105T060000
END:STANDARD
BEGIN:DAYLIGHT
TZOFFSETFROM:-0500
TZOFFSETTO:-0400
TZNAME:EDT
DTSTART:20240310T070000
END:DAYLIGHT
BEGIN:STANDARD
TZOFFSETFROM:-0400
TZOFFSETTO:-0500
TZNAME:EST
DTSTART:20241103T060000
END:STANDARD
END:VTIMEZONE
BEGIN:VEVENT
DTSTART;TZID=America/Indiana/Indianapolis:20230227T160000
DTEND;TZID=America/Indiana/Indianapolis:20230227T180000
DTSTAMP:20260421T055743
CREATED:20230130T152205Z
LAST-MODIFIED:20230130T152205Z
UID:3818-1677513600-1677520800@scpl.us
SUMMARY:Hooks and Needles
DESCRIPTION:We will have supplies on hand to make your own plastic canvas Valentine pattern or join us to knit or crochet. No experience needed. Ages 18+.
URL:https://scpl.us/event/hooks-and-needles-47/
END:VEVENT
BEGIN:VEVENT
DTSTART;TZID=America/Indiana/Indianapolis:20230227T180000
DTEND;TZID=America/Indiana/Indianapolis:20230227T190000
DTSTAMP:20260421T055743
CREATED:20230130T152258Z
LAST-MODIFIED:20230130T152258Z
UID:3820-1677520800-1677524400@scpl.us
SUMMARY:Garden Gab
DESCRIPTION:Join other gardeners to discuss cold weather plants and equipment you use to start seedlings indoors.
URL:https://scpl.us/event/garden-gab-4/
END:VEVENT
END:VCALENDAR